BEGIN:VCALENDAR
VERSION:2.0
BEGIN:VEVENT
URL:https://anbgkaikan.com.br/kaikan/events/viewevent/1-torneio-gateball-xyz?groupid=1 
DTSTART:20250829T181000
DTEND:20250830T181000
SUMMARY:Torneio Gateball XYZ
DESCRIPTION:dasdasdasdadsadsad
LOCATION:Sao Paulo
END:VEVENT
END:VCALENDAR